BEGIN:VCALENDAR
VERSION:2.0
PRODID:-//Tukios.com/
BEGIN:VEVENT
UID:3c1fe256-a14c-4d49-8a04-98fe45506fcc@www.blair-stubbs.com
DTSTAMP:20260421T013122Z
DTSTART:20260424T220000Z
DTEND:20260425T000000Z
SUMMARY:Visitation
DESCRIPTION:
URL:https://www.blair-stubbs.com/obituaries/zarine-strain
LOCATION: 605 S Mckinney St PO 309 Mexia TX 76667
GEO:31.6746235;-96.4816933
END:VEVENT
END:VCALENDAR