BEGIN:VCALENDAR
VERSION:2.0
PRODID:-//Tukios.com/
BEGIN:VEVENT
UID:5386ae3c-28f0-40f7-9de5-a934070bb864@www.blair-stubbs.com
DTSTAMP:20260421T012852Z
DTSTART:20260425T160000Z
DTEND:20260425T170000Z
SUMMARY:Funeral Service
DESCRIPTION:
URL:https://www.blair-stubbs.com/obituaries/zarine-strain
LOCATION: 605 S Mckinney St PO 309 Mexia TX 76667
GEO:31.6746235;-96.4816933
END:VEVENT
END:VCALENDAR